BEGIN:VCALENDAR
VERSION:2.0
PRODID:-//pretix//Cannewe_Ticket-Service//
BEGIN:VTIMEZONE
TZID:Europe/Amsterdam
BEGIN:STANDARD
DTSTART:20001029T030000
RRULE:FREQ=YEARLY;BYDAY=-1SU;BYMONTH=10
TZNAME:CET
TZOFFSETFROM:+0200
TZOFFSETTO:+0100
END:STANDARD
BEGIN:DAYLIGHT
DTSTART:20000326T020000
RRULE:FREQ=YEARLY;BYDAY=-1SU;BYMONTH=3
TZNAME:CEST
TZOFFSETFROM:+0100
TZOFFSETTO:+0200
END:DAYLIGHT
END:VTIMEZONE
BEGIN:VEVENT
UID:pretix-Weeffabriek-qgz7g-0@ticket-service.cannewe.nl
DTSTART;TZID=Europe/Amsterdam:20251008T140000
DTEND;TZID=Europe/Amsterdam:20251008T171500
DESCRIPTION:Tickets: https://ticket-service.cannewe.nl/Weeffabriek/qgz7g/\n
 Organizer: Weeffabriek
DTSTAMP:20260421T104526Z
SUMMARY:Downtown Abbey: The Grand Finale
END:VEVENT
END:VCALENDAR
