BEGIN:VCALENDAR
VERSION:2.0
PRODID:-//pretix//Cannewe_Ticket-Service//
BEGIN:VTIMEZONE
TZID:Europe/Amsterdam
BEGIN:STANDARD
DTSTART:20001029T030000
RRULE:FREQ=YEARLY;BYDAY=-1SU;BYMONTH=10
TZNAME:CET
TZOFFSETFROM:+0200
TZOFFSETTO:+0100
END:STANDARD
BEGIN:DAYLIGHT
DTSTART:20000326T020000
RRULE:FREQ=YEARLY;BYDAY=-1SU;BYMONTH=3
TZNAME:CEST
TZOFFSETFROM:+0100
TZOFFSETTO:+0200
END:DAYLIGHT
END:VTIMEZONE
BEGIN:VEVENT
UID:pretix-Weeffabriek-boerpeer-0@ticket-service.cannewe.nl
DTSTART;TZID=Europe/Amsterdam:20260530T113000
DTEND;TZID=Europe/Amsterdam:20260530T130000
DESCRIPTION:Tickets: https://ticket-service.cannewe.nl/Weeffabriek/boerpeer
 /\nToegang: 30-5-2026 11:15\nOrganisator: Weeffabriek
DTSTAMP:20260425T124141Z
SUMMARY:Documentaire Boer Peer En Vergane Glorie + Brabantse lunch
END:VEVENT
END:VCALENDAR
